BEGIN:VCALENDAR
VERSION:2.0
PRODID:-//Chisel ActionCOACH - ECPv6.15.20//NONSGML v1.0//EN
CALSCALE:GREGORIAN
METHOD:PUBLISH
X-WR-CALNAME:Chisel ActionCOACH
X-ORIGINAL-URL:https://chiselactioncoach.com
X-WR-CALDESC:Events for Chisel ActionCOACH
REFRESH-INTERVAL;VALUE=DURATION:PT1H
X-Robots-Tag:noindex
X-PUBLISHED-TTL:PT1H
BEGIN:VTIMEZONE
TZID:UTC
BEGIN:STANDARD
TZOFFSETFROM:+0000
TZOFFSETTO:+0000
TZNAME:UTC
DTSTART:20230101T000000
END:STANDARD
END:VTIMEZONE
BEGIN:VEVENT
DTSTART;TZID=UTC:20240314T083000
DTEND;TZID=UTC:20240314T153000
DTSTAMP:20260419T103129
CREATED:20241017T150400Z
LAST-MODIFIED:20241017T150400Z
UID:10000036-1710405000-1710430200@chiselactioncoach.com
SUMMARY:March 14 GrowthCLUB (90 Day Planning)
DESCRIPTION:Our quarterly workshop designed to help business owners develop their 90-day strategy.\n🙌 Business owners: \n✈️ Are you ‘winging’ your business? \n✈️ Flying without a plan? \nConsider touching down and charting a real guide for strategic success. 🤔 \n🛫 One that has the potential to make your business soar. 🌤️ 🌈 \nIf you’re a passionate business owner looking to define your priorities\, team expectations\, and plans for success\, join us at our 1st quarter GrowthCLUB. \nWe will take a day at the Chisel office to focus solely on your 90-day business plan. You will leave with comprehensive\, actionable steps to stay ahead of goals\, set expectations\, and maintain clarity within your business. \nSpend a day OUT of your business to work ON your business. Get ready to achieve focus\, momentum\, and a dependable strategy. \nDon’t ‘wing it’ it anymore! Join us for GrowthCLUB and create a 90-day plan to take command of your business’s journey to success. \nPricing\n– For first time attendees\, your visit to GrowthCLUB is on us\n– Members of Chisel ActionCOACH enjoy GrowthCLUB included in their membership\n– For GrowthCLUB members joining us once per quarter for planning\, $495 per quarter\, or $1980 annually (payment can be arranged upon registration 😊) \nScroll down to register below!\n \n\n\n\n\n\n\n \n03/14/24 GrowthCLUB Sign-Up\n\nFirst Name*\n\n \n\n\n\n\nLast Name*\n\n \n\n\n\n\nPhone*\n\n \n\n\n\n\nEmail*\n\n \n\n\n\n\nCompany*\n\n \n\n\n\n\nLead Source\n\n-None-10/18 Lunch and Learn Sign-Up01/05/24 Workshop Sign-Up01/16/24 Virtual Seminar Sign-Up11/07 Workshop Sign-Up02/02/24 Workshop Sign-Up11/21 Virtual Seminar Sign-Up03/01/24 Workshop Sign-Up03/14/24 GrowthCLUB Sign-Up03/19/24 Virtual Seminar Sign-Up02/20/24 Virtual Seminar Sign-Up12/01 Virtual Seminar Sign-Up12/05 Workshop Sign-Up12/21 GrowthCLUB Sign-UpGrowthCLUB Sign-UpNetworkingCold CallBusiness CardMass ImportFacebookLinkedin
URL:https://chiselactioncoach.com/event/march-14-growthclub-90-day-planning/
LOCATION:Chisel ActionCOACH\, 5920 Exchange St\, McFarland\, WI\, 53558\, United States
ATTACH;FMTTYPE=image/jpeg:https://chiselactioncoach.com/wp-content/uploads/2024/10/Growth-club.jpg
ORGANIZER;CN="Chisel ActionCOACH":MAILTO:monica@chiselactioncoach.com
END:VEVENT
END:VCALENDAR