BEGIN:VCALENDAR
VERSION:2.0
PRODID:-//Chisel ActionCOACH - ECPv6.15.20//NONSGML v1.0//EN
CALSCALE:GREGORIAN
METHOD:PUBLISH
X-WR-CALNAME:Chisel ActionCOACH
X-ORIGINAL-URL:https://chiselactioncoach.com
X-WR-CALDESC:Events for Chisel ActionCOACH
REFRESH-INTERVAL;VALUE=DURATION:PT1H
X-Robots-Tag:noindex
X-PUBLISHED-TTL:PT1H
BEGIN:VTIMEZONE
TZID:UTC
BEGIN:STANDARD
TZOFFSETFROM:+0000
TZOFFSETTO:+0000
TZNAME:UTC
DTSTART:20230101T000000
END:STANDARD
END:VTIMEZONE
BEGIN:VEVENT
DTSTART;TZID=UTC:20240105T083000
DTEND;TZID=UTC:20240105T100000
DTSTAMP:20260425T085834
CREATED:20241017T151756Z
LAST-MODIFIED:20241017T151756Z
UID:10000041-1704443400-1704448800@chiselactioncoach.com
SUMMARY:Jan. 5 Workshop: Secure a Predictable Future For Your Business
DESCRIPTION:Jan. 5 Workshop: Secure a Predictable Future For Your Business\n📣 Business owners: \n➡️ Feeling weighed down by all the “what-ifs”? \n➡️ Ready to push through the uncertainty and claim success? \nVisualize a future where your business outcomes aren’t so uncertain. \nWhere you have the right tools in place\, a thriving team dynamic\, and a business that provides consistent results. \nWhere you don’t have to take on every task and responsibility for your business to work. \n🎯 If you’re ready to bring that vision into reality\, then sign up for our workshop today! 🎯 \nStart creating that predictable future for your business with the expert tools and resources available at ActionCOACH. \nAt this in-person workshop\, we cover real steps to begin systemizing key aspects of your business –– allowing you to improve time\, team\, and profits. \nThe event is hosted by our coach\, Monica Gunderson\, offering years of experience in business management and development. \nRegister today to begin creating a dependable business future! \nEvent Details: \nTime and Date: 8:30 AM – 10:00 AM\, 01/05/24 \nLocation: Chisel ActionCOACH Office – 5920 Exchange St #1\, McFarland\, WI 53558 \nPricing: Be Our Guest! \nScroll down to register below!\n \n\n\n\n\n\n\n \n01/05/24 Workshop Sign-Up\n\nFirst Name*\n\n \n\n\n\n\nLast Name*\n\n \n\n\n\n\nPhone*\n\n \n\n\n\n\nEmail*\n\n \n\n\n\n\nCompany*\n\n \n\n\n\n\nLead Source\n\n-None-10/18 Lunch and Learn Sign-Up01/05/24 Workshop Sign-Up01/16/24 Virtual Seminar Sign-Up11/07 Workshop Sign-Up02/02/24 Workshop Sign-Up11/21 Virtual Seminar Sign-Up03/01/24 Workshop Sign-Up03/14/24 GrowthCLUB Sign-Up03/19/24 Virtual Seminar Sign-Up02/20/24 Virtual Seminar Sign-Up12/01 Virtual Seminar Sign-Up12/05 Workshop Sign-Up12/21 GrowthCLUB Sign-UpGrowthCLUB Sign-UpNetworkingCold CallBusiness CardMass ImportFacebookLinkedin
URL:https://chiselactioncoach.com/event/jan-5-workshop-secure-a-predictable-future-for-your-business/
LOCATION:Chisel ActionCOACH\, 5920 Exchange St\, McFarland\, WI\, 53558\, United States
ATTACH;FMTTYPE=image/jpeg:https://chiselactioncoach.com/wp-content/uploads/2024/10/6StepsWorkshop_11_7__Web_EB_Chamber_v2.jpg
ORGANIZER;CN="Chisel ActionCOACH":MAILTO:monica@chiselactioncoach.com
END:VEVENT
END:VCALENDAR