BEGIN:VCALENDAR
VERSION:2.0
PRODID:-//Chisel ActionCOACH - ECPv6.15.20//NONSGML v1.0//EN
CALSCALE:GREGORIAN
METHOD:PUBLISH
X-WR-CALNAME:Chisel ActionCOACH
X-ORIGINAL-URL:https://chiselactioncoach.com
X-WR-CALDESC:Events for Chisel ActionCOACH
REFRESH-INTERVAL;VALUE=DURATION:PT1H
X-Robots-Tag:noindex
X-PUBLISHED-TTL:PT1H
BEGIN:VTIMEZONE
TZID:UTC
BEGIN:STANDARD
TZOFFSETFROM:+0000
TZOFFSETTO:+0000
TZNAME:UTC
DTSTART:20230101T000000
END:STANDARD
END:VTIMEZONE
BEGIN:VEVENT
DTSTART;TZID=UTC:20240202T083000
DTEND;TZID=UTC:20240202T100000
DTSTAMP:20260423T104652
CREATED:20241017T151415Z
LAST-MODIFIED:20241017T151415Z
UID:10000039-1706862600-1706868000@chiselactioncoach.com
SUMMARY:Feb. 2 Workshop: Simplify Your Business and Thrive
DESCRIPTION:Feb. 2 Workshop: Simplify Your Business and Thrive\n📣 Business owners: \n🎳 Does it feel like you’re juggling bowling balls? \n🎳 Taking on too much with too little result? \nImagine having a lighter load. \nHaving the right tools in place\, a thriving team dynamic\, and a business that turns out reliable success. \nWhere you don’t have to take on every task and responsibility for your business to work. \n🎯 If you’re ready to bring that vision into reality\, then sign up for our workshop today! 🎯 \nStart lightening your load\, free up your time\, and reclaim energy at this complimentary event. \nAt this in-person workshop\, we cover straightforward steps to begin systemizing key aspects of your business –– allowing you to improve time\, team\, and profits. \nThe event is hosted by our coach\, Monica Gunderson\, offering years of experience in business management and development. \nRegister today and start building a business that works without weighing you down! \nEvent Details: \nTime and Date: 8:30 AM – 10:00 AM\, 02/02/24 \nLocation: Chisel ActionCOACH Office – 5920 Exchange St #1\, McFarland\, WI 53558 \nPricing: Be Our Guest! \nScroll down to register below!\n \n\n\n\n\n\n\n \n02/02/24 Workshop Sign-Up\n\nFirst Name*\n\n \n\n\n\n\nLast Name*\n\n \n\n\n\n\nPhone*\n\n \n\n\n\n\nEmail*\n\n \n\n\n\n\nCompany*\n\n \n\n\n\n\nLead Source\n\n-None-10/18 Lunch and Learn Sign-Up01/05/24 Workshop Sign-Up01/16/24 Virtual Seminar Sign-Up11/07 Workshop Sign-Up02/02/24 Workshop Sign-Up11/21 Virtual Seminar Sign-Up03/01/24 Workshop Sign-Up03/14/24 GrowthCLUB Sign-Up03/19/24 Virtual Seminar Sign-Up02/20/24 Virtual Seminar Sign-Up12/01 Virtual Seminar Sign-Up12/05 Workshop Sign-Up12/21 GrowthCLUB Sign-UpGrowthCLUB Sign-UpNetworkingCold CallBusiness CardMass ImportFacebookLinkedin
URL:https://chiselactioncoach.com/event/feb-2-workshop-simplify-your-business-and-thrive/
LOCATION:Chisel ActionCOACH\, 5920 Exchange St\, McFarland\, WI\, 53558\, United States
ATTACH;FMTTYPE=image/jpeg:https://chiselactioncoach.com/wp-content/uploads/2024/10/6StepsWorkshop_12_5_Web_EB_Chamber_v2.jpg
ORGANIZER;CN="Chisel ActionCOACH":MAILTO:monica@chiselactioncoach.com
END:VEVENT
BEGIN:VEVENT
DTSTART;TZID=UTC:20240220T120000
DTEND;TZID=UTC:20240220T133000
DTSTAMP:20260423T104652
CREATED:20241017T150900Z
LAST-MODIFIED:20241017T150900Z
UID:10000038-1708430400-1708435800@chiselactioncoach.com
SUMMARY:Feb. 20 Virtual Seminar: Take Control For Business Success
DESCRIPTION:Take Control For Business Success\n📢 Calling out to business owners who want to break through the confusion: \n💡 Is the daily chaos keeping your business from working at its best? \n💡 Do you provide a great service but lack clarity with goals and expectations? \n💡 Ready to take control? \nImagine your business thriving under your leadership. \nWhere you move through the confusion\, inspiring yourself and your team with a strong vision and the right plans to accomplish it. \n☝️ If you’re ready to achieve clarity and take control\, join us for this virtual meetup as we cover key fundamentals to growing and maintaining business success. ⬆️ 💪 \nWe will discuss proven ways to begin systemizing important areas of your business –– allowing you to achieve dependable successes in time\, team\, and profit. \nThe seminar will be led by our coach\, Monica Gunderson\, offering years of experience in business management and development. \nEmpower your business journey. Register TODAY to be in control and achieve success! \n(This event will take place over Microsoft Teams. Meeting link provided upon registration.) \nScroll down to register below!\n \n\n\n\n\n\n\n \n02/20/24 Virtual Seminar Sign-Up\n\nFirst Name*\n\n \n\n\n\n\nLast Name*\n\n \n\n\n\n\nPhone*\n\n \n\n\n\n\nEmail*\n\n \n\n\n\n\nCompany*\n\n \n\n\n\n\nLead Source\n\n-None-10/18 Lunch and Learn Sign-Up01/05/24 Workshop Sign-Up01/16/24 Virtual Seminar Sign-Up11/07 Workshop Sign-Up02/02/24 Workshop Sign-Up11/21 Virtual Seminar Sign-Up03/01/24 Workshop Sign-Up03/14/24 GrowthCLUB Sign-Up03/19/24 Virtual Seminar Sign-Up02/20/24 Virtual Seminar Sign-Up12/01 Virtual Seminar Sign-Up12/05 Workshop Sign-Up12/21 GrowthCLUB Sign-UpGrowthCLUB Sign-UpNetworkingCold CallBusiness CardMass ImportFacebookLinkedin
URL:https://chiselactioncoach.com/event/feb-20-virtual-seminar-take-control-for-business-success/
ATTACH;FMTTYPE=image/jpeg:https://chiselactioncoach.com/wp-content/uploads/2024/10/SeminarVirtual_10_6_Web_EB_Chamber_v2.jpg
ORGANIZER;CN="Chisel ActionCOACH":MAILTO:monica@chiselactioncoach.com
END:VEVENT
END:VCALENDAR